BEGIN:VCALENDAR
VERSION:2.0
PRODID:-//Medcom Foundation - ECPv5.3.2//NONSGML v1.0//EN
CALSCALE:GREGORIAN
METHOD:PUBLISH
X-WR-CALNAME:Medcom Foundation
X-ORIGINAL-URL:https://medcomfoundation.org
X-WR-CALDESC:Events for Medcom Foundation
BEGIN:VTIMEZONE
TZID:UTC
BEGIN:STANDARD
TZOFFSETFROM:+0000
TZOFFSETTO:+0000
TZNAME:UTC
DTSTART:20190101T000000
END:STANDARD
END:VTIMEZONE
BEGIN:VEVENT
DTSTART;TZID=UTC:20190604T093000
DTEND;TZID=UTC:20200807T170000
DTSTAMP:20260423T095324
CREATED:20190604T031906Z
LAST-MODIFIED:20200413T065748Z
UID:3102-1559640600-1596819600@medcomfoundation.org
SUMMARY:Provide Pure Water And Fresh Food For Syrian
DESCRIPTION:Who’s that then? Shh! Knights\, I bid you welcome to your new home. Let us ride to Camelot! Ah\, now we see the violence inherent in the system! The Lady of the Lake\, her arm clad in the purest shimmering samite\, held aloft Excalibur from the bosom of the water\, signifying by divine providence that I\, Arthur\, was to carry Excalibur. That is why I am your king. Camelot!
URL:https://medcomfoundation.org/event/provide-pure-water-and-fresh-food-for-syrian/
LOCATION:Sproule Circuit\, Evatt\, Australian Capital Territory \, Australia
CATEGORIES:Charity,Conference,Health
ATTACH;FMTTYPE=image/jpeg:https://medcomfoundation.org/wp-content/uploads/2017/06/The-amazing-tale-of-starting-a-Ugand.jpg
END:VEVENT
END:VCALENDAR